BEGIN:VCALENDAR
VERSION:2.0
PRODID:-//wp-events-plugin.com//7.2.3.1//EN
TZID:Europe/London
X-WR-TIMEZONE:Europe/London
BEGIN:VEVENT
UID:162@hohcharity.co.uk
DTSTART;TZID=Europe/London:20260710T103000
DTEND;TZID=Europe/London:20260710T133000
DTSTAMP:20260414T104645Z
URL:https://www.hohcharity.co.uk/events/broad-beans-and-fennel/
SUMMARY:Broad beans and fennel cookery workshop
DESCRIPTION:Broad beans and fennel cookery workshop\n\nSummer days mean we 
 often want something lighter on our plates\, but salads can often be seen 
 as a bit ‘samey’ or boring. Today’s recipe throws boring out of the 
 window! Join us in the Victorian Walled Garden for a morning of harvesting
  and creating a dish that is cool as a cucumber (though the chilli adds 
 a lovely kick!).\nOn the menu:\n\n\n 	Quinoa\, Broad Bean\, Fennel &amp\; 
 Chilli Salad: A delicious mix of seasonal greens\, hearty grains\, and a 
 touch of heat.\n\nThis salad is fantastic on its own or as a standout side
  dish. Plus\, it’s the ultimate "prep-ahead" meal—it lasts a good 5 da
 ys in the fridge\, so your future self will definitely thank you! Enjoy a 
 bowl on-site while soaking in the views\, and we’ll provide containers f
 or you to take the rest home.\nSmall groups of up to 8 participants\, perf
 ect for learning and sharing and making new friends.
ATTACH;FMTTYPE=image/jpeg:https://www.hohcharity.co.uk/wp-content/uploads/
 2026/04/Broad-bean-and-fennel-AI-generated.jpg
LOCATION:Hands of Hope\, Hands of Hope\, Hope Farm Community Garden\, Moor 
 Hill\, Hawkhurst\, Kent\, TN18 4QB\, United Kingdom
GEO:51.041241;0.508674
X-APPLE-STRUCTURED-LOCATION;VALUE=URI;X-ADDRESS=Hands of Hope\, Hope Farm C
 ommunity Garden\, Moor Hill\, Hawkhurst\, Kent\, TN18 4QB\, United Kingdom
 ;X-APPLE-RADIUS=100;X-TITLE=Hands of Hope:geo:51.041241,0.508674
END:VEVENT
BEGIN:VTIMEZONE
TZID:Europe/London
X-LIC-LOCATION:Europe/London
BEGIN:DAYLIGHT
DTSTART:20260329T020000
TZOFFSETFROM:+0000
TZOFFSETTO:+0100
TZNAME:BST
END:DAYLIGHT
END:VTIMEZONE
END:VCALENDAR