BEGIN:VCALENDAR
VERSION:2.0
PRODID:-//wp-events-plugin.com//7.2.3.1//EN
TZID:Europe/London
X-WR-TIMEZONE:Europe/London
BEGIN:VEVENT
UID:126@hohcharity.co.uk
DTSTART;TZID=Europe/London:20251214T100000
DTEND;TZID=Europe/London:20251214T120000
DTSTAMP:20251214T084903Z
URL:https://www.hohcharity.co.uk/events/festive-family-fun-day/
SUMMARY:Festive family fun day
DESCRIPTION:⋆𐙚❅🦌*°⋆❆Join us for a free\, magical morning of 
 festive activities\, laughter\, and family fun! This special event is desi
 gned for school-age children and their families to enjoy the magic of the 
 season together.⋆𐙚❅🦌*°⋆❆\n\nWhat to expect\n\nYour family w
 ill journey around our beautiful farm\, visiting different activity statio
 ns and taking part in hands-on festive fun! We've created a wonderful trai
 l of activities that will keep everyone engaged\, entertained\, and creati
 ng special festive memories.\n\nThe format\n\nFour different activity stat
 ions\, kid's yoga\, woodworking with the Shedders\, salt dough decorations
  and hand knitting!\n25 minutes at each station with gentle walks between 
 activities.\nSmall group sizes for a relaxed\, enjoyable experience.\n\nAc
 tivities include\nWe're planning a mix of creative crafts\, festive cookin
 g\, nature activities\, and seasonal fun!\n\nWho can attend?\nAll families
  with school-age children are welcome\, with priority booking given to fam
 ilies from disadvantaged groups. Children must be accompanied by parents/g
 uardians\, school leaders\, or holiday club leaders.\n\nWhy join us?\n✓ 
 Completely FREE — no cost to families\n✓ Festive fun — create magica
 l memories together\n✓ Hands-on activities — engaging stations designe
 d for school-age children\n✓ Small groups — relaxed\, supportive atmos
 phere\n✓ Beautiful setting — explore our farm between activities\n✓ 
 Community spirit — connect with other local families\n\nImportant bookin
 g information\nEach child attending must book individually so we can monit
 or eligibility and ensure we're fully prepared for everyone on the day. Pl
 ease book all members of your group separately when registering.\n\nCost: 
 FREE\nAge Group: School-age children with accompanying adults\nDress: Outd
 oor clothing and comfortable shoes for walking between stations\n\nBOOK YO
 UR PLACES NOW\nQuestions about eligibility or the event? Email us.
ATTACH;FMTTYPE=image/jpeg:https://www.hohcharity.co.uk/wp-content/uploads/
 2025/10/Social-media-all-activities-1.png
LOCATION:Hands of Hope\, Hands of Hope\, Hope Farm Community Garden\, Moor 
 Hill\, Hawkhurst\, Kent\, TN18 4QB\, United Kingdom
GEO:51.041241;0.508674
X-APPLE-STRUCTURED-LOCATION;VALUE=URI;X-ADDRESS=Hands of Hope\, Hope Farm C
 ommunity Garden\, Moor Hill\, Hawkhurst\, Kent\, TN18 4QB\, United Kingdom
 ;X-APPLE-RADIUS=100;X-TITLE=Hands of Hope:geo:51.041241,0.508674
END:VEVENT
BEGIN:VTIMEZONE
TZID:Europe/London
X-LIC-LOCATION:Europe/London
BEGIN:STANDARD
DTSTART:20251026T010000
TZOFFSETFROM:+0100
TZOFFSETTO:+0000
TZNAME:GMT
END:STANDARD
END:VTIMEZONE
END:VCALENDAR