BEGIN:VCALENDAR
VERSION:2.0
PRODID:-//wp-events-plugin.com//7.2.3.1//EN
TZID:Europe/London
X-WR-TIMEZONE:Europe/London
BEGIN:VEVENT
UID:150@hohcharity.co.uk
DTSTART;TZID=Europe/London:20260331T100000
DTEND;TZID=Europe/London:20260331T113000
DTSTAMP:20260326T110230Z
URL:https://www.hohcharity.co.uk/events/grow-cook-care-share-kids-edition-
 butter-buttermilk-soda-bread-workshop/
SUMMARY:Grow\, Cook\, Care\, Share - Kids edition - BUTTER\, BUTTERMILK &am
 p\; SODA BREAD WORKSHOP
DESCRIPTION:Butter\, Buttermilk &amp\; Soda Bread Workshop - for kids aged 
 8+\nDiscover the magic of making your own butter and bread from scratch—
 easier than you think!\nJoin us for a delightful\, hands-on workshop where
  you'll make fresh butter\, create buttermilk\, and bake traditional soda 
 bread—all in one morning! Learn simple\, traditional skills that are sur
 prisingly easy\, genuinely satisfying\, and produce delicious results you'
 ll take home to enjoy.\nCompletely free\, fun\, and perfect for building k
 itchen confidence for the little chefs!\nYour butter and bread-making jour
 ney:\n🧈 Making butter and buttermilk Start by transforming cream into b
 eautiful\, fresh butter through the simple magic of churning. Watch as cre
 am thickens\, separates\, and becomes golden butter right before your eyes
 ! You'll also discover how to make buttermilk in different ways—that tan
 gy\, valuable ingredient that's essential for the best soda bread.\n🌿 F
 lavouring your butter Learn to create flavoured compound butters using her
 bs\, spices\, or other additions. Take your plain butter from simple to sp
 ecial with creative flavourings you can adapt at home!\n🍞 Baking soda b
 read Use the buttermilk you've created to make traditional Irish soda brea
 d—no yeast\, no proving time\, just mix and bake! Discover how simple br
 ead-making can be when you use this quick\, reliable method. We'll discuss
  different flavourings and variations so you can make it your own.\n☕ Ta
 sting and taking home Taste and compare your creations together. Share wha
 t you've learned\, ask questions\, and enjoy the satisfaction of tasting b
 read and butter you've made with your own hands.\nImportant Information\nA
 rrival time: Please arrive 10 minutes before 10am (around 9:50am) to allow
  time for signing in and orientation. On arrival\, parents will need to si
 gn in and acknowledge they've read our risk assessment summary (a brief ov
 erview of farm safety).\nParent supervision: Parents must stay with childr
 en\nEnd of event: At approximately 12pm\, once children have completed all
  three activities you return to reception to complete a feedback form and 
 collect a take home gift.\n\nImportant booking information\nEach child att
 ending must book individually so we can monitor eligibility and ensure we'
 re fully prepared for everyone on the day. Please only book for children\,
  not the grown ups. This event is for children 8 and over.\n\nWorkshop det
 ails\n\nGrow\, Cook\, Share\, Care is a Hands of Hope programme engaging v
 ulnerable groups\, those with complex needs\, families\, especially those 
 living in food poverty\, and older people\, in learning\, wellness and soc
 ial activities aligned to growing\, cooking\, and nature.\n\nSuitable for 
 all. Priority for spaces will be given to people meeting the above criter
 ia.\n\nThere is no charge for this workshop\, donations are always welcome
 !\n\nCost: FREE
ATTACH;FMTTYPE=image/jpeg:https://www.hohcharity.co.uk/wp-content/uploads/
 2026/03/Kids-Soda-bread.png
LOCATION:Hands of Hope\, Hands of Hope\, Hope Farm Community Garden\, Moor 
 Hill\, Hawkhurst\, Kent\, TN18 4QB\, United Kingdom
GEO:51.041241;0.508674
X-APPLE-STRUCTURED-LOCATION;VALUE=URI;X-ADDRESS=Hands of Hope\, Hope Farm C
 ommunity Garden\, Moor Hill\, Hawkhurst\, Kent\, TN18 4QB\, United Kingdom
 ;X-APPLE-RADIUS=100;X-TITLE=Hands of Hope:geo:51.041241,0.508674
END:VEVENT
BEGIN:VTIMEZONE
TZID:Europe/London
X-LIC-LOCATION:Europe/London
BEGIN:DAYLIGHT
DTSTART:20260329T020000
TZOFFSETFROM:+0000
TZOFFSETTO:+0100
TZNAME:BST
END:DAYLIGHT
END:VTIMEZONE
END:VCALENDAR