BEGIN:VCALENDAR
VERSION:2.0
PRODID:-//wp-events-plugin.com//7.2.3.1//EN
TZID:Europe/London
X-WR-TIMEZONE:Europe/London
BEGIN:VEVENT
UID:110@hohcharity.co.uk
DTSTART;TZID=Europe/London:20251104T100000
DTEND;TZID=Europe/London:20251104T120000
DTSTAMP:20250930T120226Z
URL:https://www.hohcharity.co.uk/events/grow-cook-care-share-waste-not-wan
 t-not-broth/
SUMMARY:Grow\, Cook\, Care\, Share - Waste not\, want not: Broth
DESCRIPTION:Waste not\, want not workshop series: Transforming the way you 
 think about food and the seasons.\n\nBroth - the ultimate kitchen foundati
 on\n\nEvery year in the UK\, we throw away 6.6 million tonnes of household
  food waste - much of it perfectly good produce that simply wasn't used in
  time. Meanwhile\, the cost of living continues to rise\, and many of us a
 re looking for practical ways to make our food budget stretch further whil
 e eating well.\n\nOver a series of two hour workshops\, you'll learn time-
 tested techniques for preserving seasonal produce - whether it's from your
  garden\, local markets\, or those yellow-sticker bargains that represent 
 genuine savings and rescue perfectly good food from unnecessary waste.\n\n
 Eating seasonally isn't just about saving money or reducing waste (though 
 it does both beautifully). Seasonal eating connects us to the natural rhyt
 hms of the year\, often provides better nutrition and flavour\, and suppor
 ts local growers and sustainable farming practices. When we preserve food 
 at its peak\, we capture not just its taste\, but its nutritional value to
 o.\n\nBy the end of each workshop\, you'll have the confidence to turn sur
 plus into treasure - transforming those "too good to waste" moments into a
  well-stocked cupboard that serves you year-round.\nWhat you'll bring with
  you\, create and take home: Broth - the ultimate kitchen foundation\nTher
 e's something absolutely magical about a good homemade broth - it's like l
 iquid gold for your wallet AND your wellbeing.\nHere's the beautiful thing
  about broth-making: it's basically the art of turning kitchen scraps into
  culinary treasure. Got vegetable peelings and herb stems you'd normally b
 in? Perfect. Chicken bones from Sunday's roast? Even better. Those onion s
 kins\, carrot tops\, celery leaves\, and parmesan rinds you usually throw 
 away - they're all broth gold waiting to happen.\nThe best part? You can m
 ake litres of nutrient-rich broth from what would otherwise be waste\, the
 n freeze it in portions. Suddenly you've got your very own liquid pantry -
  the secret weapon that transforms any meal from ordinary to extraordinary
 !\nAnd can we talk about how incredibly nourishing broth is? You're extrac
 ting every vitamin\, mineral\, and bit of collagen from ingredients that w
 ould have gone in the bin. It's deeply hydrating\, easy to digest\, and ho
 nestly makes everything taste like it came from a fancy restaurant.\nBroth
  is your ultimate cooking shortcut. Need to cook rice? Use broth. Making a
  quick pasta sauce? Add broth. Want an instant warming drink? Heat up your
  homemade broth. It's the foundation that makes every cook look like a gen
 ius! You'll learn to create rich\, flavourful broths from kitchen scraps a
 nd take home your own liquid gold to transform your home cooking.\nWorksho
 p details\n\nGrow\, Cook\, Share\, Care is a Hands of Hope programme engag
 ing vulnerable groups\, those with complex needs\, families\, especially t
 hose living in food poverty\, and older people\, in learning\, wellness an
 d social activities aligned to growing\, cooking\, and nature.\n\nSuitable
  for all. Priority for spaces will be given to people meeting the criteria
 : aged over 50\, young carers and young adults with learning disabilities.
 \n\nPlease book one space per attendee\, this helps us to gather accurate
  data\, these can be booked and managed separately using the same email ad
 dress.\n\nThere is no charge for this workshop\, donations are always welc
 ome!\n\nPlease ensure you arrive ten minutes before the start time to ensu
 re we can get everyone registered.
ATTACH;FMTTYPE=image/jpeg:https://www.hohcharity.co.uk/wp-content/uploads/
 2025/09/Broth.png
LOCATION:Hands of Hope\, Hands of Hope\, Hope Farm Community Garden\, Moor 
 Hill\, Hawkhurst\, Kent\, TN18 4QB\, United Kingdom
GEO:51.041241;0.508674
X-APPLE-STRUCTURED-LOCATION;VALUE=URI;X-ADDRESS=Hands of Hope\, Hope Farm C
 ommunity Garden\, Moor Hill\, Hawkhurst\, Kent\, TN18 4QB\, United Kingdom
 ;X-APPLE-RADIUS=100;X-TITLE=Hands of Hope:geo:51.041241,0.508674
END:VEVENT
BEGIN:VTIMEZONE
TZID:Europe/London
X-LIC-LOCATION:Europe/London
BEGIN:STANDARD
DTSTART:20251026T010000
TZOFFSETFROM:+0100
TZOFFSETTO:+0000
TZNAME:GMT
END:STANDARD
END:VTIMEZONE
END:VCALENDAR