BEGIN:VCALENDAR
VERSION:2.0
PRODID:-//wp-events-plugin.com//7.2.3.1//EN
TZID:Europe/London
X-WR-TIMEZONE:Europe/London
BEGIN:VEVENT
UID:165@hohcharity.co.uk
DTSTART;TZID=Europe/London:20261009T103000
DTEND;TZID=Europe/London:20261009T133000
DTSTAMP:20260414T104523Z
URL:https://www.hohcharity.co.uk/events/hearty-harvest/
SUMMARY:The Hearty Harvest cookery workshop
DESCRIPTION:The Hearty Harvest\nAs the air turns crisp and the garden shift
 s into its golden hue\, we embrace the true icons of the harvest season. I
 t’s time to get cosy with the star of September - The Mighty Pumpkin.\nO
 n the Menu:\n\n\n 	Roasted Pumpkin with Kale\, Chickpeas\, and Tahini Dres
 sing: A vibrant\, textured dish that balances the sweetness of roasted sq
 uash with earthy greens and a creamy\, nutty finish.\n 	The "Waste-Not" Bo
 nus: If you have leftovers\, we’ll show you how to turn them into a war
 ming soup to pop in the freezer—perfect for those chilly winter nights a
 head.\n\nIt’s a masterclass in autumnal comfort that’s as practical as
  it is delicious.\nSmall groups of up to 8 participants\, perfect for lear
 ning and sharing and making new friends.
ATTACH;FMTTYPE=image/jpeg:https://www.hohcharity.co.uk/wp-content/uploads/
 2026/04/Pumpkin-AI-generated.jpg
LOCATION:Hands of Hope\, Hands of Hope\, Hope Farm Community Garden\, Moor 
 Hill\, Hawkhurst\, Kent\, TN18 4QB\, United Kingdom
GEO:51.041241;0.508674
X-APPLE-STRUCTURED-LOCATION;VALUE=URI;X-ADDRESS=Hands of Hope\, Hope Farm C
 ommunity Garden\, Moor Hill\, Hawkhurst\, Kent\, TN18 4QB\, United Kingdom
 ;X-APPLE-RADIUS=100;X-TITLE=Hands of Hope:geo:51.041241,0.508674
END:VEVENT
BEGIN:VTIMEZONE
TZID:Europe/London
X-LIC-LOCATION:Europe/London
BEGIN:DAYLIGHT
DTSTART:20260329T020000
TZOFFSETFROM:+0000
TZOFFSETTO:+0100
TZNAME:BST
END:DAYLIGHT
END:VTIMEZONE
END:VCALENDAR