BEGIN:VCALENDAR
VERSION:2.0
PRODID:-//wp-events-plugin.com//7.2.3.1//EN
TZID:Europe/London
X-WR-TIMEZONE:Europe/London
BEGIN:VEVENT
UID:67@hohcharity.co.uk
DTSTART;TZID=Europe/London:20250814T110000
DTEND;TZID=Europe/London:20250814T140000
DTSTAMP:20250717T141544Z
URL:https://www.hohcharity.co.uk/events/hope-flowers-grow-gather-bloom-140
 825/
SUMMARY:Hope Flowers: From garden to vase
DESCRIPTION:Learn how to pick\, condition and arrange with organic flowers 
 grown in the cutting garden.\n\nSpend time amongst the blooms here at Hope
  Farm. We will walk around the garden and our onsite florist will advise y
 ou the best way to pick our organically grown flowers for maximum beauty a
 nd longevity. Once picked we will then spend time in our new on-site class
 room learning how to condition and arrange the flowers creating a beautifu
 l arrangement or bouquet for you to take home and enjoy.\n\nA delicious lu
 nch will be provided from our onsite café during the workshop.
ATTACH;FMTTYPE=image/jpeg:https://www.hohcharity.co.uk/wp-content/uploads/
 2025/05/WhatsApp-Image-2025-06-20-at-1.48.41-PM-1.jpeg
CATEGORIES:Workshop
LOCATION:Hands of Hope\, Hands of Hope\, Hope Farm Community Garden\, Moor 
 Hill\, Hawkhurst\, Kent\, TN18 4QB\, United Kingdom
GEO:51.041241;0.508674
X-APPLE-STRUCTURED-LOCATION;VALUE=URI;X-ADDRESS=Hands of Hope\, Hope Farm C
 ommunity Garden\, Moor Hill\, Hawkhurst\, Kent\, TN18 4QB\, United Kingdom
 ;X-APPLE-RADIUS=100;X-TITLE=Hands of Hope:geo:51.041241,0.508674
END:VEVENT
BEGIN:VTIMEZONE
TZID:Europe/London
X-LIC-LOCATION:Europe/London
BEGIN:DAYLIGHT
DTSTART:20250330T020000
TZOFFSETFROM:+0000
TZOFFSETTO:+0100
TZNAME:BST
END:DAYLIGHT
END:VTIMEZONE
END:VCALENDAR