BEGIN:VCALENDAR
VERSION:2.0
PRODID:-//wp-events-plugin.com//7.2.3.1//EN
TZID:Europe/London
X-WR-TIMEZONE:Europe/London
BEGIN:VEVENT
UID:163@hohcharity.co.uk
DTSTART;TZID=Europe/London:20260814T103000
DTEND;TZID=Europe/London:20260814T133000
DTSTAMP:20260414T104714Z
URL:https://www.hohcharity.co.uk/events/mighty-aubergine/
SUMMARY:The mighty aubergine cookery workshop
DESCRIPTION:The mighty aubergine cookery workshop\nWant to impress your gue
 sts with a dish that looks like a gourmet masterpiece but is secretly a br
 eeze to make? Join us this August in the Victorian Walled Garden to master
  the art of the aubergine. It’s quick\, simple\, tasty\, and a brilliant
  change from the "norm."\nOn the menu:\n• Miso-Glazed Aubergine: A sweet
 \, salty\, and savoury delight that looks like you’ve made a huge amount
  of effort.\n• Nutritious Vegetable Rice: Served with colourful toppings
 \, making this a meal that is absolutely bursting with "plant points".\nIt
 ’s the perfect mid-summer lunch to enjoy overlooking our organic gardens
 \, and we’ll make sure you have plenty to pack away for later.\nSmall gr
 oups of up to 8 participants\, perfect for learning and sharing and making
  new friends.
ATTACH;FMTTYPE=image/jpeg:https://www.hohcharity.co.uk/wp-content/uploads/
 2026/04/Aubergine-AI-generated.jpg
LOCATION:Hands of Hope\, Hands of Hope\, Hope Farm Community Garden\, Moor 
 Hill\, Hawkhurst\, Kent\, TN18 4QB\, United Kingdom
GEO:51.041241;0.508674
X-APPLE-STRUCTURED-LOCATION;VALUE=URI;X-ADDRESS=Hands of Hope\, Hope Farm C
 ommunity Garden\, Moor Hill\, Hawkhurst\, Kent\, TN18 4QB\, United Kingdom
 ;X-APPLE-RADIUS=100;X-TITLE=Hands of Hope:geo:51.041241,0.508674
END:VEVENT
BEGIN:VTIMEZONE
TZID:Europe/London
X-LIC-LOCATION:Europe/London
BEGIN:DAYLIGHT
DTSTART:20260329T020000
TZOFFSETFROM:+0000
TZOFFSETTO:+0100
TZNAME:BST
END:DAYLIGHT
END:VTIMEZONE
END:VCALENDAR