BEGIN:VCALENDAR
VERSION:2.0
PRODID:-//wp-events-plugin.com//7.2.3.1//EN
TZID:Europe/London
X-WR-TIMEZONE:Europe/London
BEGIN:VEVENT
UID:157@hohcharity.co.uk
DTSTART;TZID=Europe/London:20260512T100000
DTEND;TZID=Europe/London:20260512T120000
DTSTAMP:20260417T121305Z
URL:https://www.hohcharity.co.uk/events/tomato-scrum/
SUMMARY:Grow\, Cook\, Care\, Share - Waste not\, want not Tomato Scrum WORK
 SHOP
DESCRIPTION:\n\nTomato Scrum: Waste Not\, Want Not Workshop\n\n\n\n\n\nTran
 sform leftover bread into a delicious mid-week treat that the whole family
  will love!\n\n\n\n\n\nJoin us for a hands-on cookery workshop where you'l
 l learn to make Tomato Scrum—a yummy\, comforting dish that's perfect fo
 r using up day-old bread and store-cupboard ingredients. Budget-friendly\,
  satisfying\, and surprisingly simple\, this is the kind of recipe every f
 amily needs in their repertoire! Tomato Scrum is a brilliant British comfo
 rt food classic that deserves to be better known! Think bread pudding meet
 s tomato bake—layers of bread soaked in rich tomato sauce\, baked until 
 golden and crispy on top\, soft and flavourful underneath. It's warming\, 
 filling\, and absolutely delicious.\n\n\n\n\n\nCompletely free\, with all 
 ingredients provided and plenty to take home!\n\n\n\n\n\nYour tomato scrum
 :\n\n\n\n\n\n\n 	Made with day-old bread (waste not\, want not!)\n 	Rich\,
  savoury tomato sauce\n 	Crispy golden top\, soft underneath\n 	Perfect mi
 d-week family meal\n 	Great hot or cold\n 	Uses simple\, affordable store-
 cupboard ingredients\n 	Easily adaptable with what you have\n\n\n\n\n\nThi
 s is proper comfort food that's kind to your budget—the sort of recipe g
 randmothers made when nothing went to waste and every meal had to stretch!
 \n\n\n\nWhat you'll experience:\n\n 	Hands-on cooking in our professional 
 cookery school\n 	Work individually or in supportive pairs\n 	Expert instr
 uction and encouragement throughout\n 	Essential kitchen skills (safety\, 
 hygiene\, equipment use)\n 	Budget-friendly cooking techniques\n 	Tips for
  reducing food waste\n 	Ideas for adapting recipes to what you have at hom
 e\n 	Recipe cards to take home\n 	Possibly leftovers to take home too!\n\n
 Workshop details\n\nGrow\, Cook\, Share\, Care is a Hands of Hope programm
 e engaging vulnerable groups\, those with complex needs\, families\, espec
 ially those living in food poverty\, and older people\, in learning\, well
 ness and social activities aligned to growing\, cooking\, and nature.\n\nS
 uitable for all. Priority for spaces will be given to people meeting the c
 riteria: aged over 50\, young carers and young adults with learning disabi
 lities.\n\nThere is no charge for this workshop\, donations are always wel
 come!\n\nPlease ensure you arrive ten minutes before the start time to ens
 ure we can get everyone registered\, and please bring a container to take 
 your home your goodies.\n\nEach participant must book individually so we c
 an monitor eligibility and ensure we're fully prepared for everyone attend
 ing the workshop.
ATTACH;FMTTYPE=image/jpeg:https://www.hohcharity.co.uk/wp-content/uploads/
 2026/03/Tomato-scrum-1.png
LOCATION:Hands of Hope\, Hands of Hope\, Hope Farm Community Garden\, Moor 
 Hill\, Hawkhurst\, Kent\, TN18 4QB\, United Kingdom
GEO:51.041241;0.508674
X-APPLE-STRUCTURED-LOCATION;VALUE=URI;X-ADDRESS=Hands of Hope\, Hope Farm C
 ommunity Garden\, Moor Hill\, Hawkhurst\, Kent\, TN18 4QB\, United Kingdom
 ;X-APPLE-RADIUS=100;X-TITLE=Hands of Hope:geo:51.041241,0.508674
END:VEVENT
BEGIN:VTIMEZONE
TZID:Europe/London
X-LIC-LOCATION:Europe/London
BEGIN:DAYLIGHT
DTSTART:20260329T020000
TZOFFSETFROM:+0000
TZOFFSETTO:+0100
TZNAME:BST
END:DAYLIGHT
END:VTIMEZONE
END:VCALENDAR