BEGIN:VCALENDAR
VERSION:2.0
PRODID:-//wp-events-plugin.com//7.2.3.1//EN
TZID:Europe/London
X-WR-TIMEZONE:Europe/London
BEGIN:VEVENT
UID:164@hohcharity.co.uk
DTSTART;TZID=Europe/London:20260911T103000
DTEND;TZID=Europe/London:20260911T133000
DTSTAMP:20260414T104750Z
URL:https://www.hohcharity.co.uk/events/versatile-courgette/
SUMMARY:September abundance: The versatile courgette cookery workshop
DESCRIPTION:The mighty aubergine cookery workshop\n\nWe’ve all been there
 —a garden overflowing with courgettes and wondering what on earth to do 
 with them! While some find them tricky due to their high water content\, w
 e’re here to show you that when cooked the right way\, they are nothing 
 short of delish.\nOn the menu:\n\n\n 	Courgette &amp\; Ricotta Tart: A be
 autifully light\, golden tart that looks impressive on any table. We’ll 
 teach you the secrets to keeping the pastry crisp and the filling creamy a
 nd flavourful.\n 	Fresh Tomato Salad: The perfect zesty companion\, using
  sun-ripened tomatoes straight from our vines.\n\nWhether you serve it as 
 a hearty main with potatoes or a light\, breezy salad lunch\, this is late
  summer on a plate.\nSmall groups of up to 8 participants\, perfect for le
 arning and sharing and making new friends.
ATTACH;FMTTYPE=image/jpeg:https://www.hohcharity.co.uk/wp-content/uploads/
 2026/04/Courgette-AI-generated.jpg
LOCATION:Hands of Hope\, Hands of Hope\, Hope Farm Community Garden\, Moor 
 Hill\, Hawkhurst\, Kent\, TN18 4QB\, United Kingdom
GEO:51.041241;0.508674
X-APPLE-STRUCTURED-LOCATION;VALUE=URI;X-ADDRESS=Hands of Hope\, Hope Farm C
 ommunity Garden\, Moor Hill\, Hawkhurst\, Kent\, TN18 4QB\, United Kingdom
 ;X-APPLE-RADIUS=100;X-TITLE=Hands of Hope:geo:51.041241,0.508674
END:VEVENT
BEGIN:VTIMEZONE
TZID:Europe/London
X-LIC-LOCATION:Europe/London
BEGIN:DAYLIGHT
DTSTART:20260329T020000
TZOFFSETFROM:+0000
TZOFFSETTO:+0100
TZNAME:BST
END:DAYLIGHT
END:VTIMEZONE
END:VCALENDAR